BEGIN:VCALENDAR
VERSION:2.0
PRODID:-//Yaira Yonne | Dirigieren Arrangieren Klang-Yoga - ECPv6.15.17.1//NONSGML v1.0//EN
CALSCALE:GREGORIAN
METHOD:PUBLISH
X-ORIGINAL-URL:https://www.yairayonne.ch
X-WR-CALDESC:Veranstaltungen für Yaira Yonne | Dirigieren Arrangieren Klang-Yoga
REFRESH-INTERVAL;VALUE=DURATION:PT1H
X-Robots-Tag:noindex
X-PUBLISHED-TTL:PT1H
BEGIN:VTIMEZONE
TZID:Europe/Zurich
BEGIN:DAYLIGHT
TZOFFSETFROM:+0100
TZOFFSETTO:+0200
TZNAME:CEST
DTSTART:20250330T010000
END:DAYLIGHT
BEGIN:STANDARD
TZOFFSETFROM:+0200
TZOFFSETTO:+0100
TZNAME:CET
DTSTART:20251026T010000
END:STANDARD
BEGIN:DAYLIGHT
TZOFFSETFROM:+0100
TZOFFSETTO:+0200
TZNAME:CEST
DTSTART:20260329T010000
END:DAYLIGHT
BEGIN:STANDARD
TZOFFSETFROM:+0200
TZOFFSETTO:+0100
TZNAME:CET
DTSTART:20261025T010000
END:STANDARD
BEGIN:DAYLIGHT
TZOFFSETFROM:+0100
TZOFFSETTO:+0200
TZNAME:CEST
DTSTART:20270328T010000
END:DAYLIGHT
BEGIN:STANDARD
TZOFFSETFROM:+0200
TZOFFSETTO:+0100
TZNAME:CET
DTSTART:20271031T010000
END:STANDARD
END:VTIMEZONE
BEGIN:VEVENT
DTSTART;TZID=Europe/Zurich:20260901T190000
DTEND;TZID=Europe/Zurich:20260901T203000
DTSTAMP:20260420T010735
CREATED:20251104T211245Z
LAST-MODIFIED:20251104T211336Z
UID:8353-1788289200-1788294600@www.yairayonne.ch
SUMMARY:Stimme in Bewegung: Barfuss-Singen
DESCRIPTION:[vc_row full_width=“stretch_row“ css=“.vc_custom_1494003633434{background-image: url(http://www.yaira-yonne.ch/wp-content/uploads/2017/05/sand-dunes-2-20-20-512×128-tiny.png?id=5393) !important;background-position: 0 0 !important;background-repeat: repeat !important;}“][vc_column][vc_empty_space][/vc_column][/vc_row][vc_row][vc_column][vc_empty_space][/vc_column][/vc_row][vc_row][vc_column width=“1/3″][vc_single_image image=“8311″ img_size=“large“ alignment=“center“ onclick=“custom_link“ img_link_target=“_blank“ css=““ link=“https://www.tapas-yoga.ch/anlaesse/barfusssingen“][vc_column_text css=““]Kursinhalt: \nKlungen – Schwingen — Entspannen\nDu möchtest dich und deine Stimme erkunden\, glaubst aber\, dass du nicht singen kannst? JUST DO IT! Wer atmet\, kann tönen…\nTauche ein mit deiner Stimme in den tragenden Gruppenklang unter Yairas energetischer erfahrener Anleitung.[/vc_column_text][/vc_column][vc_column width=“2/3″][vc_row_inner][vc_column_inner width=“1/2″][vc_column_text css=““]Zeit:\n06.01.2026 19:00 – 20:30 \nOrt:\nTAPASYOGA·Ausbildungsschule\, Bernstrasse 99\, 3122 Kehrsatz \nKosten:\nPilotprojekt: GRATIS \nMehr…[/vc_column_text][/vc_column_inner][vc_column_inner width=“1/2″][/vc_column_inner][/vc_row_inner][/vc_column][/vc_row]
URL:https://www.yairayonne.ch/event/barfuss-singen-20260901/
LOCATION:TAPASYOGA·Ausbildungsschule\, Bernstrasse 99\, Kehrsatz\, Berne\, 3122\, Schweiz
CATEGORIES:Yoga Seminare
END:VEVENT
END:VCALENDAR