BEGIN:VCALENDAR
VERSION:2.0
PRODID:-//Yaira Yonne | Dirigieren Arrangieren Klang-Yoga - ECPv6.15.17.1//NONSGML v1.0//EN
CALSCALE:GREGORIAN
METHOD:PUBLISH
X-WR-CALNAME:Yaira Yonne | Dirigieren Arrangieren Klang-Yoga
X-ORIGINAL-URL:https://www.yairayonne.ch
X-WR-CALDESC:Veranstaltungen für Yaira Yonne | Dirigieren Arrangieren Klang-Yoga
REFRESH-INTERVAL;VALUE=DURATION:PT1H
X-Robots-Tag:noindex
X-PUBLISHED-TTL:PT1H
BEGIN:VTIMEZONE
TZID:Europe/Zurich
BEGIN:DAYLIGHT
TZOFFSETFROM:+0100
TZOFFSETTO:+0200
TZNAME:CEST
DTSTART:20240331T010000
END:DAYLIGHT
BEGIN:STANDARD
TZOFFSETFROM:+0200
TZOFFSETTO:+0100
TZNAME:CET
DTSTART:20241027T010000
END:STANDARD
BEGIN:DAYLIGHT
TZOFFSETFROM:+0100
TZOFFSETTO:+0200
TZNAME:CEST
DTSTART:20250330T010000
END:DAYLIGHT
BEGIN:STANDARD
TZOFFSETFROM:+0200
TZOFFSETTO:+0100
TZNAME:CET
DTSTART:20251026T010000
END:STANDARD
BEGIN:DAYLIGHT
TZOFFSETFROM:+0100
TZOFFSETTO:+0200
TZNAME:CEST
DTSTART:20260329T010000
END:DAYLIGHT
BEGIN:STANDARD
TZOFFSETFROM:+0200
TZOFFSETTO:+0100
TZNAME:CET
DTSTART:20261025T010000
END:STANDARD
END:VTIMEZONE
BEGIN:VEVENT
DTSTART;TZID=Europe/Zurich:20251212T180000
DTEND;TZID=Europe/Zurich:20251212T203000
DTSTAMP:20260419T230353
CREATED:20240917T094445Z
LAST-MODIFIED:20251027T031824Z
UID:8142-1765562400-1765571400@www.yairayonne.ch
SUMMARY:YOGAVOX
DESCRIPTION:[vc_row full_width=“stretch_row“ css=“.vc_custom_1494003633434{background-image: url(http://www.yaira-yonne.ch/wp-content/uploads/2017/05/sand-dunes-2-20-20-512×128-tiny.png?id=5393) !important;background-position: 0 0 !important;background-repeat: repeat !important;}“][vc_column][vc_empty_space][/vc_column][/vc_row][vc_row][vc_column][vc_empty_space][/vc_column][/vc_row][vc_row][vc_column width=“1/3″][vc_single_image image=“8311″ img_size=“large“ alignment=“center“ onclick=“custom_link“ img_link_target=“_blank“ css=““ link=“https://www.tapas-yoga.ch/anlaesse/yogavox“][/vc_column][vc_column width=“2/3″][vc_row_inner][vc_column_inner width=“1/2″][vc_custom_heading text=“Stimmklang in Bewegung“ use_theme_fonts=“yes“][vc_column_text css=““]Kursinhalt: \nVox heisst Stimme\, Laut\, Ton\, Klang oder Schall – und Zauberspruch! In der Klanggestalt unserer individuellen Stimme schwingt das Echo des transzendentalen Urklangs OM. Die Resonanz der eigenen Stimme macht das Schwingen im Innen und Aussen besonders in der Gruppe fühlbar. Tönen verbindet Asana und bewegte Meditationen. Abschluss an jedem Praxisabend mit Yoga Nidra im «Klangnest» mit Klangschalen und Gongs. \nFür Yoga- und Stimminteressierte. Keine Vorkenntnisse erforderlich. \n  \nZeit:\n12.12.2025 18:00 – 20:30 \nOrt:\nTAPASYOGA·Ausbildungsschule\, Bernstrasse 99\, 3122 Kehrsatz \nKosten:\nFr. 80\nSiehe Webseite für TAPASYOGA Rabatt \nMehr…[/vc_column_text][/vc_column_inner][vc_column_inner width=“1/2″][/vc_column_inner][/vc_row_inner][/vc_column][/vc_row]
URL:https://www.yairayonne.ch/event/yogavox-20251212/
LOCATION:TAPASYOGA·Ausbildungsschule\, Bernstrasse 99\, Kehrsatz\, Berne\, 3122\, Schweiz
CATEGORIES:Yoga Seminare
END:VEVENT
END:VCALENDAR