BEGIN:VCALENDAR
VERSION:2.0
PRODID:-//Yaira Yonne | Dirigieren Arrangieren Klang-Yoga - ECPv6.15.17.1//NONSGML v1.0//EN
CALSCALE:GREGORIAN
METHOD:PUBLISH
X-WR-CALNAME:Yaira Yonne | Dirigieren Arrangieren Klang-Yoga
X-ORIGINAL-URL:https://www.yairayonne.ch
X-WR-CALDESC:Veranstaltungen für Yaira Yonne | Dirigieren Arrangieren Klang-Yoga
REFRESH-INTERVAL;VALUE=DURATION:PT1H
X-Robots-Tag:noindex
X-PUBLISHED-TTL:PT1H
BEGIN:VTIMEZONE
TZID:Europe/Zurich
BEGIN:DAYLIGHT
TZOFFSETFROM:+0100
TZOFFSETTO:+0200
TZNAME:CEST
DTSTART:20230326T010000
END:DAYLIGHT
BEGIN:STANDARD
TZOFFSETFROM:+0200
TZOFFSETTO:+0100
TZNAME:CET
DTSTART:20231029T010000
END:STANDARD
BEGIN:DAYLIGHT
TZOFFSETFROM:+0100
TZOFFSETTO:+0200
TZNAME:CEST
DTSTART:20240331T010000
END:DAYLIGHT
BEGIN:STANDARD
TZOFFSETFROM:+0200
TZOFFSETTO:+0100
TZNAME:CET
DTSTART:20241027T010000
END:STANDARD
BEGIN:DAYLIGHT
TZOFFSETFROM:+0100
TZOFFSETTO:+0200
TZNAME:CEST
DTSTART:20250330T010000
END:DAYLIGHT
BEGIN:STANDARD
TZOFFSETFROM:+0200
TZOFFSETTO:+0100
TZNAME:CET
DTSTART:20251026T010000
END:STANDARD
END:VTIMEZONE
BEGIN:VEVENT
DTSTART;TZID=Europe/Zurich:20241122T180000
DTEND;TZID=Europe/Zurich:20241122T203000
DTSTAMP:20260420T230017
CREATED:20240517T135114Z
LAST-MODIFIED:20240830T151817Z
UID:8106-1732298400-1732307400@www.yairayonne.ch
SUMMARY:YOGAVOX
DESCRIPTION:[vc_row full_width=“stretch_row“ css=“.vc_custom_1494003633434{background-image: url(http://www.yaira-yonne.ch/wp-content/uploads/2017/05/sand-dunes-2-20-20-512×128-tiny.png?id=5393) !important;background-position: 0 0 !important;background-repeat: repeat !important;}“][vc_column][vc_empty_space][/vc_column][/vc_row][vc_row][vc_column][vc_empty_space][/vc_column][/vc_row][vc_row][vc_column width=“1/3″][vc_single_image image=“8131″ img_size=“large“ alignment=“center“ onclick=“custom_link“ img_link_target=“_blank“ link=“https://www.yairayonne.ch/wp-content/uploads/2024/08/YOGAVOX-Flyer-2024-08-Mail.pdf“][/vc_column][vc_column width=“2/3″][vc_row_inner][vc_column_inner width=“1/2″][vc_custom_heading text=“Stimmklang in Bewegung“ use_theme_fonts=“yes“][vc_column_text]Kursinhalt:\nPraxis zum Wochenausklang:\nHörbares und innerliches Tönen in Asana und Meditation.\nEin-Klang. Stille. Coming hOMe. \nZeit:\n22.11.2024 18:00 – 20:30 \nOrt:\nTAPASYOGA·Ausbildungsschule\, Bernstrasse 99\, 3122 Kehrsatz \nKosten:\nFr. 60\nAktuelle TAPASYOGA Studierende: Fr. 40 \nMehr…[/vc_column_text][/vc_column_inner][vc_column_inner width=“1/2″][/vc_column_inner][/vc_row_inner][/vc_column][/vc_row]
URL:https://www.yairayonne.ch/event/yogavox-20241122/
LOCATION:TAPASYOGA·Ausbildungsschule\, Bernstrasse 99\, Kehrsatz\, Berne\, 3122\, Schweiz
CATEGORIES:Yoga Seminare
END:VEVENT
END:VCALENDAR