BEGIN:VCALENDAR
VERSION:2.0
PRODID:-//Yaira Yonne | Dirigieren Arrangieren Klang-Yoga - ECPv6.15.17.1//NONSGML v1.0//EN
CALSCALE:GREGORIAN
METHOD:PUBLISH
X-ORIGINAL-URL:https://www.yairayonne.ch
X-WR-CALDESC:Veranstaltungen für Yaira Yonne | Dirigieren Arrangieren Klang-Yoga
REFRESH-INTERVAL;VALUE=DURATION:PT1H
X-Robots-Tag:noindex
X-PUBLISHED-TTL:PT1H
BEGIN:VTIMEZONE
TZID:Europe/Zurich
BEGIN:DAYLIGHT
TZOFFSETFROM:+0100
TZOFFSETTO:+0200
TZNAME:CEST
DTSTART:20250330T010000
END:DAYLIGHT
BEGIN:STANDARD
TZOFFSETFROM:+0200
TZOFFSETTO:+0100
TZNAME:CET
DTSTART:20251026T010000
END:STANDARD
BEGIN:DAYLIGHT
TZOFFSETFROM:+0100
TZOFFSETTO:+0200
TZNAME:CEST
DTSTART:20260329T010000
END:DAYLIGHT
BEGIN:STANDARD
TZOFFSETFROM:+0200
TZOFFSETTO:+0100
TZNAME:CET
DTSTART:20261025T010000
END:STANDARD
BEGIN:DAYLIGHT
TZOFFSETFROM:+0100
TZOFFSETTO:+0200
TZNAME:CEST
DTSTART:20270328T010000
END:DAYLIGHT
BEGIN:STANDARD
TZOFFSETFROM:+0200
TZOFFSETTO:+0100
TZNAME:CET
DTSTART:20271031T010000
END:STANDARD
END:VTIMEZONE
BEGIN:VEVENT
DTSTART;VALUE=DATE:20260606
DTEND;VALUE=DATE:20260608
DTSTAMP:20260419T194801
CREATED:20250119T163127Z
LAST-MODIFIED:20251016T161211Z
UID:8193-1780704000-1780876799@www.yairayonne.ch
SUMMARY:Resonanz: Stimmklang im Yogaunterricht
DESCRIPTION:[vc_row full_width=“stretch_row“ css=“.vc_custom_1494003633434{background-image: url(http://www.yaira-yonne.ch/wp-content/uploads/2017/05/sand-dunes-2-20-20-512×128-tiny.png?id=5393) !important;background-position: 0 0 !important;background-repeat: repeat !important;}“][vc_column][vc_empty_space][/vc_column][/vc_row][vc_row][vc_column][vc_empty_space][/vc_column][/vc_row][vc_row][vc_column width=“1/3″][vc_column_text css=““]Kursinhalt: \nAm Samstag erfahren und vertiefen wir einfache\, individuell angepasste und im Unterricht anwendbare Stimmklang-Techniken in Asana\, Karana\, Pranayama und Meditation. Den Tagesabschluss bildet ein entspannend-heilsames Yoga-Nidra-Klangbad. \nDer Sonntag ist dem Umgang mit der eigenen Stimme als Yogalehrkraft gewidmet: Wir erforschen in Resonanz mit uns und der Gruppe Fragen: Wie höre ich mich\, wie werde ich gehört? Wie trete ich in Resonanz mit meiner inneren Stimme\, mit der Stimmung im Raum\, mit den Teilnehmenden? Welche Stimmtechniken vertiefen meine Eigenresonanz? \nFür Yoga-Interessierte mit Offenheit und Experimentierfreude der eigenen Stimme gegenüber.[/vc_column_text][/vc_column][vc_column width=“2/3″][vc_row_inner][vc_column_inner width=“1/2″][vc_column_text css=““]Zeit:\nSamstag 06.06.2026 und Sonntag 07.06.2026\njeweils 9:30 – 16:30\nDie Tage können einzeln besucht werden. \nOrt:\nTAPASYOGA·Ausbildungsschule\, Bernstrasse 99\, 3122 Kehrsatz \nKosten:\nEinzeltag CHF 195.-; Wochenende CHF 360.-\nSiehe Webseite für TAPASYOGA Rabatt \nMehr…[/vc_column_text][/vc_column_inner][vc_column_inner width=“1/2″][/vc_column_inner][/vc_row_inner][/vc_column][/vc_row]
URL:https://www.yairayonne.ch/event/stimmklang-im-yogaunterricht-20260606/
LOCATION:TAPASYOGA·Ausbildungsschule\, Bernstrasse 99\, Kehrsatz\, Berne\, 3122\, Schweiz
CATEGORIES:Yoga Seminare
END:VEVENT
END:VCALENDAR