BEGIN:VCALENDAR
VERSION:2.0
PRODID:-//Yaira Yonne | Dirigieren Arrangieren Klang-Yoga - ECPv6.15.17.1//NONSGML v1.0//EN
CALSCALE:GREGORIAN
METHOD:PUBLISH
X-WR-CALNAME:Yaira Yonne | Dirigieren Arrangieren Klang-Yoga
X-ORIGINAL-URL:https://www.yairayonne.ch
X-WR-CALDESC:Veranstaltungen für Yaira Yonne | Dirigieren Arrangieren Klang-Yoga
REFRESH-INTERVAL;VALUE=DURATION:PT1H
X-Robots-Tag:noindex
X-PUBLISHED-TTL:PT1H
BEGIN:VTIMEZONE
TZID:Europe/Zurich
BEGIN:DAYLIGHT
TZOFFSETFROM:+0100
TZOFFSETTO:+0200
TZNAME:CEST
DTSTART:20250330T010000
END:DAYLIGHT
BEGIN:STANDARD
TZOFFSETFROM:+0200
TZOFFSETTO:+0100
TZNAME:CET
DTSTART:20251026T010000
END:STANDARD
BEGIN:DAYLIGHT
TZOFFSETFROM:+0100
TZOFFSETTO:+0200
TZNAME:CEST
DTSTART:20260329T010000
END:DAYLIGHT
BEGIN:STANDARD
TZOFFSETFROM:+0200
TZOFFSETTO:+0100
TZNAME:CET
DTSTART:20261025T010000
END:STANDARD
BEGIN:DAYLIGHT
TZOFFSETFROM:+0100
TZOFFSETTO:+0200
TZNAME:CEST
DTSTART:20270328T010000
END:DAYLIGHT
BEGIN:STANDARD
TZOFFSETFROM:+0200
TZOFFSETTO:+0100
TZNAME:CET
DTSTART:20271031T010000
END:STANDARD
END:VTIMEZONE
BEGIN:VEVENT
DTSTART;TZID=Europe/Zurich:20261103T190000
DTEND;TZID=Europe/Zurich:20261103T203000
DTSTAMP:20260420T025957
CREATED:20251104T211348Z
LAST-MODIFIED:20251104T211424Z
UID:8355-1793732400-1793737800@www.yairayonne.ch
SUMMARY:Stimme in Bewegung: Barfuss-Singen
DESCRIPTION:[vc_row full_width=“stretch_row“ css=“.vc_custom_1494003633434{background-image: url(http://www.yaira-yonne.ch/wp-content/uploads/2017/05/sand-dunes-2-20-20-512×128-tiny.png?id=5393) !important;background-position: 0 0 !important;background-repeat: repeat !important;}“][vc_column][vc_empty_space][/vc_column][/vc_row][vc_row][vc_column][vc_empty_space][/vc_column][/vc_row][vc_row][vc_column width=“1/3″][vc_single_image image=“8311″ img_size=“large“ alignment=“center“ onclick=“custom_link“ img_link_target=“_blank“ css=““ link=“https://www.tapas-yoga.ch/anlaesse/barfusssingen“][vc_column_text css=““]Kursinhalt: \nKlungen – Schwingen — Entspannen\nDu möchtest dich und deine Stimme erkunden\, glaubst aber\, dass du nicht singen kannst? JUST DO IT! Wer atmet\, kann tönen…\nTauche ein mit deiner Stimme in den tragenden Gruppenklang unter Yairas energetischer erfahrener Anleitung.[/vc_column_text][/vc_column][vc_column width=“2/3″][vc_row_inner][vc_column_inner width=“1/2″][vc_column_text css=““]Zeit:\n06.01.2026 19:00 – 20:30 \nOrt:\nTAPASYOGA·Ausbildungsschule\, Bernstrasse 99\, 3122 Kehrsatz \nKosten:\nPilotprojekt: GRATIS \nMehr…[/vc_column_text][/vc_column_inner][vc_column_inner width=“1/2″][/vc_column_inner][/vc_row_inner][/vc_column][/vc_row]
URL:https://www.yairayonne.ch/event/barfuss-singen-20261103/
LOCATION:TAPASYOGA·Ausbildungsschule\, Bernstrasse 99\, Kehrsatz\, Berne\, 3122\, Schweiz
CATEGORIES:Yoga Seminare
END:VEVENT
BEGIN:VEVENT
DTSTART;VALUE=DATE:20261121
DTEND;VALUE=DATE:20261123
DTSTAMP:20260420T025957
CREATED:20251028T105246Z
LAST-MODIFIED:20251028T105330Z
UID:8337-1795219200-1795391999@www.yairayonne.ch
SUMMARY:Marma und Stimmklang 3 & 4
DESCRIPTION:[vc_row full_width=“stretch_row“ css=“.vc_custom_1494003633434{background-image: url(http://www.yaira-yonne.ch/wp-content/uploads/2017/05/sand-dunes-2-20-20-512×128-tiny.png?id=5393) !important;background-position: 0 0 !important;background-repeat: repeat !important;}“][vc_column][vc_empty_space][/vc_column][/vc_row][vc_row][vc_column][vc_empty_space][/vc_column][/vc_row][vc_row][vc_column width=“1/3″][vc_column_text css=““]Kursinhalt: \nMarmapunkte gelten im Yoga und Āyurveda als sensible Verbindung zwischen Körper und Bewusstsein. Marma sind ähnlich wie Akupunkte nicht nur als Kraft- und Heilzentren im Körper von Bedeutung\, sondern ein Schlüssel zum bewussten Erleben der inneren Natur. An vier Tagen erforschen wir die sieben «grossen» Mahā-Marma und erfahren Gemeinsamkeiten und Unterschiede zur Cakra-Lehre.\nBist du bereit\, dich auf eine Reise ins eigene Innere zu begeben? Der Klang deiner Stimme wird dich leiten! \nFür interessierte Yoga-Übende und -Unterrichtende. KEINE stimmliche Vorbildung erforderlich: Wer atmet\, kann tönen![/vc_column_text][/vc_column][vc_column width=“2/3″][vc_row_inner][vc_column_inner width=“1/2″][vc_column_text css=““]Zeit:\nSamstag 24.10.2026 / Sonntag 25.10.2026\nund/oder\nSamstag 21.11.2026 / Sonntag 22.11.2026\njeweils 10:00 – 16:30\nDie Tage können einzeln besucht werden. \nOrt:\nTAPASYOGA·Ausbildungsschule\, Bernstrasse 99\, 3122 Kehrsatz \nKosten:\nEinzeltag CHF 180.-; Wochenende CHF 350.-; Viertageskurs CHF 680.-\nSiehe Webseite für TAPASYOGA Rabatt \nMehr…[/vc_column_text][/vc_column_inner][vc_column_inner width=“1/2″][/vc_column_inner][/vc_row_inner][/vc_column][/vc_row]
URL:https://www.yairayonne.ch/event/marma-und-stimmklang-20261121/
LOCATION:TAPASYOGA·Ausbildungsschule\, Bernstrasse 99\, Kehrsatz\, Berne\, 3122\, Schweiz
CATEGORIES:Yoga Seminare
END:VEVENT
END:VCALENDAR