BEGIN:VCALENDAR
VERSION:2.0
PRODID:-//Yaira Yonne | Dirigieren Arrangieren Klang-Yoga - ECPv6.15.17.1//NONSGML v1.0//EN
CALSCALE:GREGORIAN
METHOD:PUBLISH
X-WR-CALNAME:Yaira Yonne | Dirigieren Arrangieren Klang-Yoga
X-ORIGINAL-URL:https://www.yairayonne.ch
X-WR-CALDESC:Veranstaltungen für Yaira Yonne | Dirigieren Arrangieren Klang-Yoga
REFRESH-INTERVAL;VALUE=DURATION:PT1H
X-Robots-Tag:noindex
X-PUBLISHED-TTL:PT1H
BEGIN:VTIMEZONE
TZID:Europe/Zurich
BEGIN:DAYLIGHT
TZOFFSETFROM:+0100
TZOFFSETTO:+0200
TZNAME:CEST
DTSTART:20250330T010000
END:DAYLIGHT
BEGIN:STANDARD
TZOFFSETFROM:+0200
TZOFFSETTO:+0100
TZNAME:CET
DTSTART:20251026T010000
END:STANDARD
BEGIN:DAYLIGHT
TZOFFSETFROM:+0100
TZOFFSETTO:+0200
TZNAME:CEST
DTSTART:20260329T010000
END:DAYLIGHT
BEGIN:STANDARD
TZOFFSETFROM:+0200
TZOFFSETTO:+0100
TZNAME:CET
DTSTART:20261025T010000
END:STANDARD
BEGIN:DAYLIGHT
TZOFFSETFROM:+0100
TZOFFSETTO:+0200
TZNAME:CEST
DTSTART:20270328T010000
END:DAYLIGHT
BEGIN:STANDARD
TZOFFSETFROM:+0200
TZOFFSETTO:+0100
TZNAME:CET
DTSTART:20271031T010000
END:STANDARD
END:VTIMEZONE
BEGIN:VEVENT
DTSTART;TZID=Europe/Zurich:20260707T190000
DTEND;TZID=Europe/Zurich:20260707T203000
DTSTAMP:20260419T193857
CREATED:20251104T211151Z
LAST-MODIFIED:20251104T211235Z
UID:8351-1783450800-1783456200@www.yairayonne.ch
SUMMARY:Stimme in Bewegung: Barfuss-Singen
DESCRIPTION:[vc_row full_width=“stretch_row“ css=“.vc_custom_1494003633434{background-image: url(http://www.yaira-yonne.ch/wp-content/uploads/2017/05/sand-dunes-2-20-20-512×128-tiny.png?id=5393) !important;background-position: 0 0 !important;background-repeat: repeat !important;}“][vc_column][vc_empty_space][/vc_column][/vc_row][vc_row][vc_column][vc_empty_space][/vc_column][/vc_row][vc_row][vc_column width=“1/3″][vc_single_image image=“8311″ img_size=“large“ alignment=“center“ onclick=“custom_link“ img_link_target=“_blank“ css=““ link=“https://www.tapas-yoga.ch/anlaesse/barfusssingen“][vc_column_text css=““]Kursinhalt: \nKlungen – Schwingen — Entspannen\nDu möchtest dich und deine Stimme erkunden\, glaubst aber\, dass du nicht singen kannst? JUST DO IT! Wer atmet\, kann tönen…\nTauche ein mit deiner Stimme in den tragenden Gruppenklang unter Yairas energetischer erfahrener Anleitung.[/vc_column_text][/vc_column][vc_column width=“2/3″][vc_row_inner][vc_column_inner width=“1/2″][vc_column_text css=““]Zeit:\n06.01.2026 19:00 – 20:30 \nOrt:\nTAPASYOGA·Ausbildungsschule\, Bernstrasse 99\, 3122 Kehrsatz \nKosten:\nPilotprojekt: GRATIS \nMehr…[/vc_column_text][/vc_column_inner][vc_column_inner width=“1/2″][/vc_column_inner][/vc_row_inner][/vc_column][/vc_row]
URL:https://www.yairayonne.ch/event/barfuss-singen-20260707/
LOCATION:TAPASYOGA·Ausbildungsschule\, Bernstrasse 99\, Kehrsatz\, Berne\, 3122\, Schweiz
CATEGORIES:Yoga Seminare
END:VEVENT
BEGIN:VEVENT
DTSTART;VALUE=DATE:20260712
DTEND;VALUE=DATE:20260719
DTSTAMP:20260419T193857
CREATED:20250731T054241Z
LAST-MODIFIED:20260213T155158Z
UID:8270-1783814400-1784419199@www.yairayonne.ch
SUMMARY:Klang Mitte Yoga-Ferienwoche 2026
DESCRIPTION:[vc_row full_width=“stretch_row_content_no_spaces“ css=“.vc_custom_1499017031773{background-image: url(http://www.yaira-yonne.ch/wp-content/uploads/2017/05/sand-dunes-2-20-20-512×128-tiny.png?id=5393) !important;background-position: 0 0 !important;background-repeat: repeat !important;}“][vc_column][vc_empty_space][/vc_column][/vc_row][vc_row][vc_column][vc_empty_space][/vc_column][/vc_row][vc_row][vc_column width=“3/4″][vc_custom_heading text=“Yoga Ferienwoche\nSeminarhaus Lindenbühl / Trogen“ use_theme_fonts=“yes“][/vc_column][vc_column width=“1/4″][vc_empty_space][vc_btn title=“Anmelden“ color=“sandy-brown“ align=“center“ link=“url:http%3A%2F%2Fwww.yairayonne.ch%2Fkontakt||target:%20_blank|“][vc_column_text] \nAnmeldeschluss: 15. Juni 2026 \n[/vc_column_text][/vc_column][/vc_row][vc_row][vc_column][vc_column_text]Die von mir aus dem «Mantra Purusha» (Körper aus Klang) entwickelte Yoga-Praxis bedeutet Stimmklang in Bewegung. Wir erfahren den Körper in individuell angepassten Asana als schwingendes System\, das Atemgeschehen kann sich im Tönen und Klingen anstrengungslos verfeinern.[/vc_column_text][vc_column_text] \n«Die Stille ist nicht auf den Berggipfeln\,\nder Lärm nicht auf den Marktplätzen zuhause –\nbeides wohnt in unserem Herzen.» \n[/vc_column_text][/vc_column][/vc_row][vc_row][vc_column width=“1/3″][vc_single_image image=“6926″ img_size=“large“ alignment=“center“][/vc_column][vc_column width=“2/3″][vc_row_inner][vc_column_inner][vc_column_text]Die fühlbare Innenresonanz der eigenen Stimme in Verbindung mit Bewegung unterstützt das Lösen von körperlichen\, emotionalen und geistigen Spannungen. Die Klänge des Mantra Purusha stärken besonders Nerven-\, Hormon- und Immunsysteme und nähren das Herz als unser energetisches Zentrum. \nKLANGMITTE-Yoga fördert inneres Wachstum unter Achtung der eigenen Gegebenheiten und verklingt in vibrierende\, raumgreifende Stille als Quelle und Ziel allen Werdens. Coming hOMe.\nFür Yoga- und Stimminteressierte. \nDie Ferienwoche findet im gastlichen ehemaligen «Grand Hotel du Lindenbühl» in Trogen im Appenzell statt. Hier ist weniger mehr. Raum für sich und geschenkte Zeit bedeuten Fülle. Ein Ort\, der dazu einlädt\, neue Wege zu erkunden.[/vc_column_text][/vc_column_inner][/vc_row_inner][vc_row_inner][vc_column_inner width=“1/2″][vc_column_text] \nKursleitung\nYaira Yonne-Konishi \nUnterkunft\nSeminar- und Ferienhaus Lindenbühl\nLindenbühl 2 · 9043 Trogen\nTel. 071 344 13 31\nkontakt@lindenbuehl-trogen.ch\nwww.lindenbuehl-trogen.ch[/vc_column_text][/vc_column_inner][vc_column_inner width=“1/2″][vc_custom_heading text=“Flyer 2026″ font_container=“tag:h3|text_align:left“ use_theme_fonts=“yes“ css=““ link=“url:https%3A%2F%2Fwww.yairayonne.ch%2Fwp-content%2Fuploads%2F2026%2F02%2FYogawoche-Lindenbuehl-2026.pdf“][vc_single_image image=“8389″ img_size=“212×150″ alignment=“center“ onclick=“custom_link“ css=““ link=“https://www.yairayonne.ch/wp-content/uploads/2026/02/Yogawoche-Lindenbuehl-2026.pdf“][/vc_column_inner][/vc_row_inner][/vc_column][/vc_row][vc_row][vc_column width=“1/3″][vc_empty_space][vc_single_image image=“5801″ img_size=“large“ alignment=“center“][/vc_column][vc_column width=“2/3″][vc_row_inner][vc_column_inner][vc_column_text] \nKursbeginn\nam Sonntag ab 16:00 Zimmerbezug\n16:45 Yoga \nTagesablauf\n7:45 – 9:15 Yoga – Aktivierende Morgenpraxis\n9:30 reichhaltiges Frühstücksbuffet \nTagsüber Wandern oder Ausflüge nach Wunsch\, am Mittwoch ist der Nachmittag Yoga-frei.\nVom Aufwachen bis nach dem Frühstück sind wir in Stille. \n16:45 – 18:15 Yoga – Ausgleichende\, meditative Nachmittagspraxis\n18:30 vegetarisches Dreigangmenu\n20:00 – ca. 21:00 Singen\, Musizieren\, Klangmeditation\, Sein \nKursende\nam Samstag nach dem Brunch\nab 11:30 Abreise[/vc_column_text][/vc_column_inner][/vc_row_inner][/vc_column][/vc_row][vc_row][vc_column width=“1/3″][vc_empty_space][vc_single_image image=“6925″ img_size=“large“ alignment=“center“][/vc_column][vc_column width=“2/3″][vc_row_inner][vc_column_inner][vc_column_text] \nZimmer\nDie Zimmer sind liebevoll schlicht eingerichtet mit Etagendusche / WC. Buchung der Unterkunft direkt beim Seminar- und Ferienhaus Lindenbühl. \nEssen\nNach der Morgenpraxis reichhaltiger Brunch\, tagsüber Dörrfrüchte\, Nüsse und Obst mit Tee. Abends dreigängiges vegetarisches Menu. Die «goût mieux» zertifizierte Küche bietet saisonale und regionale Gerichte mit biologischen Produkten.[/vc_column_text][/vc_column_inner][/vc_row_inner][/vc_column][/vc_row][vc_row][vc_column width=“1/3″][vc_empty_space][vc_single_image image=“6935″ img_size=“large“ alignment=“center“][/vc_column][vc_column width=“2/3″][vc_row_inner][vc_column_inner][vc_column_text css=““] \nKursbeitrag\nFr. 540.- für alle Yogaklassen und Abendprogramm (exkl. Übernachtung / Essen)\nab 13 Teilnehmende Fr. 480.–\nAnzahlung bei Anmeldung Fr. 300.-\, Anmeldefrist und Restbetrag bis 15. Juni.\nÄnderungen vorbehalten. \nKosten für Unterkunft und Verpflegung\nim Doppelzimmer à Fr. 117.- pro Person\, 6 Nächte total Fr. 702.-\nIm Einzelzimmer à Fr. 131.-\, total Fr. 786.-\nÄnderungen vorbehalten. \nRücktritt\nWird eine schriftlich bestätigte Reservation widerrufen und springt niemand aus der Warteliste ein\, werden folgende Kosten verrechnet: 1 Monat vor Kursbeginn Fr. 100.-\, 2 Wochen vor Kursbeginn 50% des Kursgeldes\, bei Kursbeginn 100%.[/vc_column_text][/vc_column_inner][/vc_row_inner][/vc_column][/vc_row][vc_row][vc_column][vc_btn title=“Anmelden“ color=“sandy-brown“ align=“left“ link=“url:http%3A%2F%2Fwww.yairayonne.ch%2Fkontakt||target:%20_blank|“][/vc_column][/vc_row]
URL:https://www.yairayonne.ch/event/klang-mitte-ferienwoche-20260712/
LOCATION:Seminar –  und Ferienhaus Lindenbühl\, Lindenbühl 2\, Trogen\, 9043\, Schweiz
CATEGORIES:Yoga Seminare
END:VEVENT
END:VCALENDAR