BEGIN:VCALENDAR
VERSION:2.0
PRODID:-//Yaira Yonne | Dirigieren Arrangieren Klang-Yoga - ECPv6.15.17.1//NONSGML v1.0//EN
CALSCALE:GREGORIAN
METHOD:PUBLISH
X-WR-CALNAME:Yaira Yonne | Dirigieren Arrangieren Klang-Yoga
X-ORIGINAL-URL:https://www.yairayonne.ch
X-WR-CALDESC:Veranstaltungen für Yaira Yonne | Dirigieren Arrangieren Klang-Yoga
REFRESH-INTERVAL;VALUE=DURATION:PT1H
X-Robots-Tag:noindex
X-PUBLISHED-TTL:PT1H
BEGIN:VTIMEZONE
TZID:Europe/Zurich
BEGIN:DAYLIGHT
TZOFFSETFROM:+0100
TZOFFSETTO:+0200
TZNAME:CEST
DTSTART:20250330T010000
END:DAYLIGHT
BEGIN:STANDARD
TZOFFSETFROM:+0200
TZOFFSETTO:+0100
TZNAME:CET
DTSTART:20251026T010000
END:STANDARD
BEGIN:DAYLIGHT
TZOFFSETFROM:+0100
TZOFFSETTO:+0200
TZNAME:CEST
DTSTART:20260329T010000
END:DAYLIGHT
BEGIN:STANDARD
TZOFFSETFROM:+0200
TZOFFSETTO:+0100
TZNAME:CET
DTSTART:20261025T010000
END:STANDARD
BEGIN:DAYLIGHT
TZOFFSETFROM:+0100
TZOFFSETTO:+0200
TZNAME:CEST
DTSTART:20270328T010000
END:DAYLIGHT
BEGIN:STANDARD
TZOFFSETFROM:+0200
TZOFFSETTO:+0100
TZNAME:CET
DTSTART:20271031T010000
END:STANDARD
END:VTIMEZONE
BEGIN:VEVENT
DTSTART;VALUE=DATE:20260502
DTEND;VALUE=DATE:20260504
DTSTAMP:20260419T161732
CREATED:20250704T185048Z
LAST-MODIFIED:20251224T082520Z
UID:8265-1777680000-1777852799@www.yairayonne.ch
SUMMARY:les sirènes Konzert 2026 Alti Moschti
DESCRIPTION:[vc_row][vc_column width=“2/3″][vc_single_image image=“8374″ img_size=“large“ alignment=“center“ onclick=“link_image“ css=““][vc_column_text css=““]Webseite les sirènes[/vc_column_text][/vc_column][vc_column width=“1/3″][vc_column_text css=““]La Cappella\, Bern (Première)\nSA 14. März 2026\nSO 15. März 2026\nwww.la-cappella.ch \nBärtschihus\, Gümligen\nFR 24. April 2026\nwww.baertschihus.ch \nGasthof Bären\, Eggiwil\nSA 25. April 2026\nwww.baeren-eggiwil.ch \nAlti Moschti\, Mühlethurnen\nSA 2. Mai 2026\nSO 3. Mai 2026 Zusatzkonzert bei grosser Nachfrage\nwww.alti-moschti.ch[/vc_column_text][/vc_column][/vc_row][vc_row][vc_column][/vc_column][/vc_row]
URL:https://www.yairayonne.ch/event/les-sirenes-konzert-2026-alti-moschti/
LOCATION:Alti Moschti Mühlethurnen\, Moosstrasse 1\, Mühlethurnen \, 3127\, Schweiz
CATEGORIES:les sirènes
END:VEVENT
BEGIN:VEVENT
DTSTART;TZID=Europe/Zurich:20260505T190000
DTEND;TZID=Europe/Zurich:20260505T203000
DTSTAMP:20260419T161732
CREATED:20251104T210800Z
LAST-MODIFIED:20251104T210854Z
UID:8347-1778007600-1778013000@www.yairayonne.ch
SUMMARY:Stimme in Bewegung: Barfuss-Singen
DESCRIPTION:[vc_row full_width=“stretch_row“ css=“.vc_custom_1494003633434{background-image: url(http://www.yaira-yonne.ch/wp-content/uploads/2017/05/sand-dunes-2-20-20-512×128-tiny.png?id=5393) !important;background-position: 0 0 !important;background-repeat: repeat !important;}“][vc_column][vc_empty_space][/vc_column][/vc_row][vc_row][vc_column][vc_empty_space][/vc_column][/vc_row][vc_row][vc_column width=“1/3″][vc_single_image image=“8311″ img_size=“large“ alignment=“center“ onclick=“custom_link“ img_link_target=“_blank“ css=““ link=“https://www.tapas-yoga.ch/anlaesse/barfusssingen“][vc_column_text css=““]Kursinhalt: \nKlungen – Schwingen — Entspannen\nDu möchtest dich und deine Stimme erkunden\, glaubst aber\, dass du nicht singen kannst? JUST DO IT! Wer atmet\, kann tönen…\nTauche ein mit deiner Stimme in den tragenden Gruppenklang unter Yairas energetischer erfahrener Anleitung.[/vc_column_text][/vc_column][vc_column width=“2/3″][vc_row_inner][vc_column_inner width=“1/2″][vc_column_text css=““]Zeit:\n06.01.2026 19:00 – 20:30 \nOrt:\nTAPASYOGA·Ausbildungsschule\, Bernstrasse 99\, 3122 Kehrsatz \nKosten:\nPilotprojekt: GRATIS \nMehr…[/vc_column_text][/vc_column_inner][vc_column_inner width=“1/2″][/vc_column_inner][/vc_row_inner][/vc_column][/vc_row]
URL:https://www.yairayonne.ch/event/barfuss-singen-20260505/
LOCATION:TAPASYOGA·Ausbildungsschule\, Bernstrasse 99\, Kehrsatz\, Berne\, 3122\, Schweiz
CATEGORIES:Yoga Seminare
END:VEVENT
BEGIN:VEVENT
DTSTART;TZID=Europe/Zurich:20260508T180000
DTEND;TZID=Europe/Zurich:20260508T203000
DTSTAMP:20260419T161732
CREATED:20251020T201436Z
LAST-MODIFIED:20251027T031222Z
UID:8302-1778263200-1778272200@www.yairayonne.ch
SUMMARY:YOGAVOX
DESCRIPTION:[vc_row full_width=“stretch_row“ css=“.vc_custom_1494003633434{background-image: url(http://www.yaira-yonne.ch/wp-content/uploads/2017/05/sand-dunes-2-20-20-512×128-tiny.png?id=5393) !important;background-position: 0 0 !important;background-repeat: repeat !important;}“][vc_column][vc_empty_space][/vc_column][/vc_row][vc_row][vc_column][vc_empty_space][/vc_column][/vc_row][vc_row][vc_column width=“1/3″][vc_single_image image=“8311″ img_size=“large“ alignment=“center“ onclick=“custom_link“ img_link_target=“_blank“ css=““ link=“https://www.tapas-yoga.ch/anlaesse/yogavox“][/vc_column][vc_column width=“2/3″][vc_row_inner][vc_column_inner width=“1/2″][vc_custom_heading text=“Stimmklang in Bewegung“ use_theme_fonts=“yes“][vc_column_text css=““]Kursinhalt: \nVox heisst Stimme\, Laut\, Ton\, Klang oder Schall – und Zauberspruch! In der Klanggestalt unserer individuellen Stimme schwingt das Echo des transzendentalen Urklangs OM. Die Resonanz der eigenen Stimme macht das Schwingen im Innen und Aussen besonders in der Gruppe fühlbar. Tönen verbindet Asana und bewegte Meditationen. Abschluss an jedem Praxisabend mit Yoga Nidra im «Klangnest» mit Klangschalen und Gongs. \nFür Yoga- und Stimminteressierte. Keine Vorkenntnisse erforderlich. \n  \nZeit:\n08.05.2026 18:00 – 20:30 \nOrt:\nTAPASYOGA·Ausbildungsschule\, Bernstrasse 99\, 3122 Kehrsatz \nKosten:\nFr. 80\nSiehe Webseite für TAPASYOGA Rabatt \nMehr…[/vc_column_text][/vc_column_inner][vc_column_inner width=“1/2″][/vc_column_inner][/vc_row_inner][/vc_column][/vc_row]
URL:https://www.yairayonne.ch/event/yogavox-20260508/
LOCATION:TAPASYOGA·Ausbildungsschule\, Bernstrasse 99\, Kehrsatz\, Berne\, 3122\, Schweiz
CATEGORIES:Yoga Seminare
END:VEVENT
END:VCALENDAR