BEGIN:VCALENDAR
VERSION:2.0
PRODID:-//Yaira Yonne | Dirigieren Arrangieren Klang-Yoga - ECPv6.15.17.1//NONSGML v1.0//EN
CALSCALE:GREGORIAN
METHOD:PUBLISH
X-WR-CALNAME:Yaira Yonne | Dirigieren Arrangieren Klang-Yoga
X-ORIGINAL-URL:https://www.yairayonne.ch
X-WR-CALDESC:Veranstaltungen für Yaira Yonne | Dirigieren Arrangieren Klang-Yoga
REFRESH-INTERVAL;VALUE=DURATION:PT1H
X-Robots-Tag:noindex
X-PUBLISHED-TTL:PT1H
BEGIN:VTIMEZONE
TZID:Europe/Zurich
BEGIN:DAYLIGHT
TZOFFSETFROM:+0100
TZOFFSETTO:+0200
TZNAME:CEST
DTSTART:20240331T010000
END:DAYLIGHT
BEGIN:STANDARD
TZOFFSETFROM:+0200
TZOFFSETTO:+0100
TZNAME:CET
DTSTART:20241027T010000
END:STANDARD
BEGIN:DAYLIGHT
TZOFFSETFROM:+0100
TZOFFSETTO:+0200
TZNAME:CEST
DTSTART:20250330T010000
END:DAYLIGHT
BEGIN:STANDARD
TZOFFSETFROM:+0200
TZOFFSETTO:+0100
TZNAME:CET
DTSTART:20251026T010000
END:STANDARD
BEGIN:DAYLIGHT
TZOFFSETFROM:+0100
TZOFFSETTO:+0200
TZNAME:CEST
DTSTART:20260329T010000
END:DAYLIGHT
BEGIN:STANDARD
TZOFFSETFROM:+0200
TZOFFSETTO:+0100
TZNAME:CET
DTSTART:20261025T010000
END:STANDARD
END:VTIMEZONE
BEGIN:VEVENT
DTSTART;TZID=Europe/Zurich:20250301T180000
DTEND;TZID=Europe/Zurich:20250301T223000
DTSTAMP:20260422T143407
CREATED:20241123T134515Z
LAST-MODIFIED:20250128T210007Z
UID:8166-1740852000-1740868200@www.yairayonne.ch
SUMMARY:les sirènes Nacht der Chöre 2025
DESCRIPTION:[vc_row][vc_column][vc_empty_space][/vc_column][/vc_row][vc_row][vc_column width=“2/3″][vc_column_text css=““]Ort: Kirche Urtenen\nFriedhofweg 9\n3322 Urtenen-Schönbühl\n18.00 Uhr – 22.30 Uhr\nDetails[/vc_column_text][/vc_column][vc_column width=“1/3″][vc_single_image image=“8206″ img_size=“large“ onclick=“link_image“ css=““][/vc_column][/vc_row]
URL:https://www.yairayonne.ch/event/les-sirenes-nacht-der-choere-2025/
LOCATION:Kirche Urtenen\, Friedhofweg 9\, Urtenen-Schönbühl\, Bern\, 3322\, Schweiz
CATEGORIES:les sirènes
END:VEVENT
END:VCALENDAR