BEGIN:VCALENDAR
VERSION:2.0
PRODID:-//Yaira Yonne | Dirigieren Arrangieren Klang-Yoga - ECPv6.15.17.1//NONSGML v1.0//EN
CALSCALE:GREGORIAN
METHOD:PUBLISH
X-WR-CALNAME:Yaira Yonne | Dirigieren Arrangieren Klang-Yoga
X-ORIGINAL-URL:https://www.yairayonne.ch
X-WR-CALDESC:Veranstaltungen für Yaira Yonne | Dirigieren Arrangieren Klang-Yoga
REFRESH-INTERVAL;VALUE=DURATION:PT1H
X-Robots-Tag:noindex
X-PUBLISHED-TTL:PT1H
BEGIN:VTIMEZONE
TZID:Europe/Zurich
BEGIN:DAYLIGHT
TZOFFSETFROM:+0100
TZOFFSETTO:+0200
TZNAME:CEST
DTSTART:20230326T010000
END:DAYLIGHT
BEGIN:STANDARD
TZOFFSETFROM:+0200
TZOFFSETTO:+0100
TZNAME:CET
DTSTART:20231029T010000
END:STANDARD
BEGIN:DAYLIGHT
TZOFFSETFROM:+0100
TZOFFSETTO:+0200
TZNAME:CEST
DTSTART:20240331T010000
END:DAYLIGHT
BEGIN:STANDARD
TZOFFSETFROM:+0200
TZOFFSETTO:+0100
TZNAME:CET
DTSTART:20241027T010000
END:STANDARD
BEGIN:DAYLIGHT
TZOFFSETFROM:+0100
TZOFFSETTO:+0200
TZNAME:CEST
DTSTART:20250330T010000
END:DAYLIGHT
BEGIN:STANDARD
TZOFFSETFROM:+0200
TZOFFSETTO:+0100
TZNAME:CET
DTSTART:20251026T010000
END:STANDARD
END:VTIMEZONE
BEGIN:VEVENT
DTSTART;VALUE=DATE:20240504
DTEND;VALUE=DATE:20240505
DTSTAMP:20260423T092407
CREATED:20231111T094407Z
LAST-MODIFIED:20231205T094755Z
UID:8008-1714780800-1714867199@www.yairayonne.ch
SUMMARY:les sirènes Konzert 2024 Mühlethurnen
DESCRIPTION:[vc_row full_width=“stretch_row“ css=“.vc_custom_1494004079553{background-image: url(http://www.yaira-yonne.ch/wp-content/uploads/2017/05/tileable-sand-dunes-8-0-20-20-512×128-tiny.png?id=5395) !important;background-position: 0 0 !important;background-repeat: repeat !important;}“][vc_column][vc_empty_space][/vc_column][/vc_row][vc_row][vc_column width=“2/3″][vc_column_text]Konzerte 2024: VIVA! \nDas Leben? Wir geniessen es\, wissen es zu schätzen und besingen verschiedene Facetten des menschlichen Daseins: Hoffnung auf Frieden\, Liebe\, Geborgenheit\, es geht um unser Wohlbefinden\, um kulinarische Genüsse\, ums Zusammenleben. Sogar darum\, was nach dem Leben kommt. Umso mehr wollen wir uns an den kleinen Dingen freuen und das Leben feiern – VIVA! \nWebseite les sirènes[/vc_column_text][/vc_column][vc_column width=“1/3″][/vc_column][/vc_row][vc_row][vc_column width=“2/3″][vc_single_image image=“8033″ img_size=“large“ alignment=“center“ onclick=“link_image“][/vc_column][vc_column width=“1/3″][vc_column_text]La Cappella\, Bern (Première)\nSA 16. März 2024\, 20:00\nSO 17. März 2024\, 17:00\nVorverkauf: www.la-cappella.ch \nGasthof Bären\, Eggiwil\nSA 27. April 2024\, 20:00\nVorverkauf: bibliothek@eggiwil.ch oder 034 552 01 95 \nAlti Moschti\, Mühlethurnen (Dernière)\nSA 4. Mai 2024\, 20:30\nVorverkauf: www.alti-moschti.ch[/vc_column_text][/vc_column][/vc_row]
URL:https://www.yairayonne.ch/event/les-sirenes-muehlethurnen-2024-1/
LOCATION:Alti Moschti Mühlethurnen\, Moosstrasse 1\, Mühlethurnen \, 3127\, Schweiz
CATEGORIES:les sirènes
END:VEVENT
END:VCALENDAR