BEGIN:VCALENDAR
VERSION:2.0
PRODID:-//Yaira Yonne | Dirigieren Arrangieren Klang-Yoga - ECPv6.15.17.1//NONSGML v1.0//EN
CALSCALE:GREGORIAN
METHOD:PUBLISH
X-WR-CALNAME:Yaira Yonne | Dirigieren Arrangieren Klang-Yoga
X-ORIGINAL-URL:https://www.yairayonne.ch
X-WR-CALDESC:Veranstaltungen für Yaira Yonne | Dirigieren Arrangieren Klang-Yoga
REFRESH-INTERVAL;VALUE=DURATION:PT1H
X-Robots-Tag:noindex
X-PUBLISHED-TTL:PT1H
BEGIN:VTIMEZONE
TZID:Europe/Zurich
BEGIN:DAYLIGHT
TZOFFSETFROM:+0100
TZOFFSETTO:+0200
TZNAME:CEST
DTSTART:20220327T010000
END:DAYLIGHT
BEGIN:STANDARD
TZOFFSETFROM:+0200
TZOFFSETTO:+0100
TZNAME:CET
DTSTART:20221030T010000
END:STANDARD
BEGIN:DAYLIGHT
TZOFFSETFROM:+0100
TZOFFSETTO:+0200
TZNAME:CEST
DTSTART:20230326T010000
END:DAYLIGHT
BEGIN:STANDARD
TZOFFSETFROM:+0200
TZOFFSETTO:+0100
TZNAME:CET
DTSTART:20231029T010000
END:STANDARD
BEGIN:DAYLIGHT
TZOFFSETFROM:+0100
TZOFFSETTO:+0200
TZNAME:CEST
DTSTART:20240331T010000
END:DAYLIGHT
BEGIN:STANDARD
TZOFFSETFROM:+0200
TZOFFSETTO:+0100
TZNAME:CET
DTSTART:20241027T010000
END:STANDARD
END:VTIMEZONE
BEGIN:VEVENT
DTSTART;TZID=Europe/Zurich:20230304T183000
DTEND;TZID=Europe/Zurich:20230304T223000
DTSTAMP:20260426T051232
CREATED:20221225T090030Z
LAST-MODIFIED:20221225T091647Z
UID:7872-1677954600-1677969000@www.yairayonne.ch
SUMMARY:les sirènes Nacht der Chöre 2023
DESCRIPTION:[vc_row css=“.vc_custom_1671958809175{background-image: url(https://www.yairayonne.ch/wp-content/uploads/2017/09/BG_Green20-20_1240x600.jpg?id=6532) !important;background-position: 0 0 !important;background-repeat: repeat !important;}“][vc_column][vc_empty_space][/vc_column][/vc_row][vc_row][vc_column][vc_empty_space][/vc_column][/vc_row][vc_row][vc_column width=“2/3″][vc_column_text]Ort: Kirche Urtenen\nFriedhofweg 9\n3322 Urtenen-Schönbühl\n18.30 Uhr – 22.30 Uhr\nDetails[/vc_column_text][/vc_column][vc_column width=“1/3″][vc_single_image image=“6332″ img_size=“large“][/vc_column][/vc_row]
URL:https://www.yairayonne.ch/event/les-sirenes-nacht-der-choere-2023/
LOCATION:Kirche Urtenen\, Friedhofweg 9\, Urtenen-Schönbühl\, Bern\, 3322\, Schweiz
CATEGORIES:les sirènes
END:VEVENT
END:VCALENDAR